BEGIN:VCALENDAR
VERSION:2.0
PRODID:www.isi.edu
METHOD:REQUEST
BEGIN:VEVENT
CREATED:20220119T222201
UID:2240
DTSTART:20220218T190000Z
DTEND:20220218T200000Z
SUMMARY:Human-centered Explainable AI
LOCATION:https://youtu.be/vXnkpTgwBYM
UID:ISI2240
URL:https://www.isi.edu/events/2240/human-centered-explainable-ai
DTSTAMP:20260424T065113Z
END:VEVENT
END:VCALENDAR
