BEGIN:VCALENDAR
VERSION:2.0
PRODID:www.isi.edu
METHOD:REQUEST
BEGIN:VEVENT
CREATED:20220512T162545
UID:2736
DTSTART:20220520T180000Z
DTEND:20220520T190000Z
SUMMARY:Art at the Age of AI
LOCATION:https://usc.zoom.us/webinar/register/WN__0VhakI6Q6i3JsasdmNWcA
UID:ISI2736
URL:https://www.isi.edu/events/2736/art-at-the-age-of-ai
DTSTAMP:20260425T033335Z
END:VEVENT
END:VCALENDAR
