BEGIN:VCALENDAR
VERSION:2.0
PRODID:www.isi.edu
METHOD:REQUEST
BEGIN:VEVENT
CREATED:20221005T201025
UID:3065
DTSTART:20221020T180000Z
DTEND:20221020T190000Z
SUMMARY:Understanding and Improving Learning through Inference with Large Language Models
LOCATION:Conference Rm #689 in-person attendance will be permitted for USC/ISI faculty, staff, students only. Open to the public virtually.
UID:ISI3065
URL:https://www.isi.edu/events/3065/understanding-and-improving-learning-through-inference-with-large-language-models
DTSTAMP:20260424T052542Z
END:VEVENT
END:VCALENDAR
