BEGIN:VCALENDAR
VERSION:2.0
PRODID:www.isi.edu
METHOD:REQUEST
BEGIN:VEVENT
CREATED:20240320T200203
UID:4648
DTSTART:20240419T180000Z
DTEND:20240419T190000Z
SUMMARY:AI in Structural Biology: Roots of Success
LOCATION:ISI-MDR #1014 in-person attendance will be permitted for USC/ISI faculty, staff, students only. Open to the public virtually via Zoom.
UID:ISI4648
URL:https://www.isi.edu/events/4648/ai-in-structural-biology-roots-of-success
DTSTAMP:20260425T050455Z
END:VEVENT
END:VCALENDAR
