BEGIN:VCALENDAR
VERSION:2.0
PRODID:www.isi.edu
METHOD:REQUEST
BEGIN:VEVENT
CREATED:20240410T170148
UID:4885
DTSTART:20240425T180000Z
DTEND:20240425T190000Z
SUMMARY:NL Seminar- How to Steal ChatGPT’s Embedding Size, and Other Low-rank Logit Tricks
LOCATION:Conference Rm #689
UID:ISI4885
URL:https://www.isi.edu/events/4885/nl-seminar-how-to-steal-chatgpts-embedding-size-and-other-low-rank-logit-tricks
DTSTAMP:20260425T071111Z
END:VEVENT
END:VCALENDAR
