BEGIN:VCALENDAR
VERSION:2.0
PRODID:www.isi.edu
METHOD:REQUEST
BEGIN:VEVENT
CREATED:20240924T204251
UID:5149
DTSTART:20241018T180000Z
DTEND:20241018T190000Z
SUMMARY:Why Are Human Laws So Difficult For AI to Follow?
LOCATION:https://usc.zoom.us/j/96076927864?pwd=tOuC1grLlyiRgcwicpm9e7XziHgE0R.1
UID:ISI5149
URL:https://www.isi.edu/events/5149/why-are-human-laws-so-difficult-for-ai-to-follow
DTSTAMP:20260421T055524Z
END:VEVENT
END:VCALENDAR
