BEGIN:VCALENDAR
VERSION:2.0
PRODID:www.isi.edu
METHOD:REQUEST
BEGIN:VEVENT
CREATED:20241219T221854
UID:5310
DTSTART:20250117T200000Z
DTEND:20250117T210000Z
SUMMARY:Novel Integrated Circuits and Systems Covering Radio-Frequency and Millimeter-Wave
LOCATION:https://usc.zoom.us/j/97017422125?pwd=Dbrt8MNMrmBV3xalKQJcAiNsggFJjJ.1&from=addon
UID:ISI5310
URL:https://www.isi.edu/events/5310/novel-integrated-circuits-and-systems-covering-radio-frequency-and-millimeter-wave
DTSTAMP:20260423T064557Z
END:VEVENT
END:VCALENDAR
