BEGIN:VCALENDAR
VERSION:2.0
PRODID:www.isi.edu
METHOD:REQUEST
BEGIN:VEVENT
CREATED:20241220T013032
UID:5316
DTSTART:20250110T200000Z
DTEND:20250110T210000Z
SUMMARY:California DREAMS: RF Microelectronics in Southern California
LOCATION:https://usc.zoom.us/j/97017422125?pwd=Dbrt8MNMrmBV3xalKQJcAiNsggFJjJ.1&from=addon
UID:ISI5316
URL:https://www.isi.edu/events/5316/california-dreams-rf-microelectronics-in-southern-california
DTSTAMP:20260424T071002Z
END:VEVENT
END:VCALENDAR
