BEGIN:VCALENDAR
VERSION:2.0
PRODID:www.isi.edu
METHOD:REQUEST
BEGIN:VEVENT
CREATED:20250107T200126
UID:5339
DTSTART:20250228T200000Z
DTEND:20250228T210000Z
SUMMARY:Silicon-Based Phased-Arrays for SATCOM and 5G/6G: Lessons Learned from a Life in Microwaves
LOCATION:https://usc.zoom.us/j/97017422125?pwd=Dbrt8MNMrmBV3xalKQJcAiNsggFJjJ.1&from=addon
UID:ISI5339
URL:https://www.isi.edu/events/5339/silicon-based-phased-arrays-for-satcom-and-5g-6g-lessons-learned-from-a-life-in-microwaves
DTSTAMP:20260424T064148Z
END:VEVENT
END:VCALENDAR
