BEGIN:VCALENDAR
VERSION:2.0
PRODID:www.isi.edu
METHOD:REQUEST
BEGIN:VEVENT
CREATED:20250113T201758
UID:5356
DTSTART:20250307T200000Z
DTEND:20250307T210000Z
SUMMARY:A Brief History and the Promise of Gallium Nitride (GaN) Electronics; the Next Wave After GaN Photonics
LOCATION:https://usc.zoom.us/j/97017422125?pwd=Dbrt8MNMrmBV3xalKQJcAiNsggFJjJ.1&from=addon
UID:ISI5356
URL:https://www.isi.edu/events/5356/a-brief-history-and-the-promise-of-gallium-nitride-gan-electronics-the-next-wave-after-gan-photonics
DTSTAMP:20260424T044604Z
END:VEVENT
END:VCALENDAR
