BEGIN:VCALENDAR
VERSION:2.0
PRODID:www.isi.edu
METHOD:REQUEST
BEGIN:VEVENT
CREATED:20250403T161056
UID:5737
DTSTART:20250418T190000Z
DTEND:20250418T200000Z
SUMMARY:CMOS Circuits and Systems for Coherent Multi-Band Millimeter-Wave Radars
LOCATION:https://usc.zoom.us/j/97017422125?pwd=Dbrt8MNMrmBV3xalKQJcAiNsggFJjJ.1&from=addon
UID:ISI5737
URL:https://www.isi.edu/events/5737/cmos-circuits-and-systems-for-coherent-multi-band-millimeter-wave-radars
DTSTAMP:20260425T114940Z
END:VEVENT
END:VCALENDAR
