BEGIN:VCALENDAR
VERSION:2.0
PRODID:www.isi.edu
METHOD:REQUEST
BEGIN:VEVENT
CREATED:20210813T181111
UID:601
DTSTART:20210813T180000Z
DTEND:20210813T190000Z
SUMMARY:Addressing the Data Challenge: Model Comparison with Few Samples
LOCATION:https://usc.zoom.us/webinar/register/WN__0VhakI6Q6i3JsasdmNWcA
UID:ISI601
URL:https://www.isi.edu/events/601/addressing-the-data-challenge-model-comparison-with-few-samples
DTSTAMP:20260422T085151Z
END:VEVENT
END:VCALENDAR
