BEGIN:VCALENDAR
VERSION:2.0
PRODID:www.isi.edu
METHOD:REQUEST
BEGIN:VEVENT
CREATED:20250904T184414
UID:6198
DTSTART:20250916T200000Z
DTEND:20250916T210000Z
SUMMARY:An Effective Theory of Bias Amplification
LOCATION:Conference Rm #1135 in-person attendance will be permitted for USC/ISI faculty, staff, students only. Open to the public virtually via Zoom.
UID:ISI6198
URL:https://www.isi.edu/events/6198/an-effective-theory-of-bias-amplification
DTSTAMP:20260424T050512Z
END:VEVENT
END:VCALENDAR
