BEGIN:VCALENDAR
VERSION:2.0
PRODID:www.isi.edu
METHOD:REQUEST
BEGIN:VEVENT
CREATED:20251212T153342
UID:6678
DTSTART:20260109T200000Z
DTEND:20260109T210000Z
SUMMARY:Teledyne GaN-on-SiC Device Library for Advanced RF and Power Conversion Applications
LOCATION:https://usc.zoom.us/j/91332239377?pwd=Cln8k0OGSSzK3zkW0A8tTRXHk6EszT.1
UID:ISI6678
URL:https://www.isi.edu/events/6678/teledyne-gan-on-sic-device-library-for-advanced-rf-and-power-conversion-applications
DTSTAMP:20260424T032946Z
END:VEVENT
END:VCALENDAR
