BEGIN:VCALENDAR
VERSION:2.0
PRODID:www.isi.edu
METHOD:REQUEST
BEGIN:VEVENT
CREATED:20260303T194636
UID:7000
DTSTART:20260409T180000Z
DTEND:20260409T190000Z
SUMMARY:Emergent Morpho-phonological Representations in Models of Spoken Word Recognition
LOCATION:ISI MDR #1135
UID:ISI7000
URL:https://www.isi.edu/events/7000/emergent-morpho-phonological-representations-in-models-of-spoken-word-recognition
DTSTAMP:20260425T082658Z
END:VEVENT
END:VCALENDAR
