BEGIN:VCALENDAR
VERSION:2.0
PRODID:www.isi.edu
METHOD:REQUEST
BEGIN:VEVENT
CREATED:20260414T153221
UID:7114
DTSTART:20260515T190000Z
DTEND:20260515T200000Z
SUMMARY:Specialty Foundry Technology Platforms and Design Enablement
LOCATION:https://usc.zoom.us/j/91332239377?pwd=Cln8k0OGSSzK3zkW0A8tTRXHk6EszT.1
UID:ISI7114
URL:https://www.isi.edu/events/7114/specialty-foundry-technology-platforms-and-design-enablement
DTSTAMP:20260421T232211Z
END:VEVENT
END:VCALENDAR
