BEGIN:VCALENDAR
VERSION:2.0
PRODID:www.isi.edu
METHOD:REQUEST
BEGIN:VEVENT
CREATED:20170127T205050
UID:955
DTSTART:20170127T190000Z
DTEND:20170127T200000Z
SUMMARY:Optimal Structure and Parameter Learning of Ising models and Calibration of the D-Wave Quantum Computer
LOCATION:11th Flr Conf Room-CR #1135
UID:ISI955
URL:https://www.isi.edu/events/955/optimal-structure-and-parameter-learning-of-ising-models-and-calibration-of-the-d-wave-quantum-computer
DTSTAMP:20260422T070125Z
END:VEVENT
END:VCALENDAR
